BEGIN:VCALENDAR
VERSION:2.0
PRODID:-//AH Digital FX Studios Inc//PHP Dynamically Generated//EN
METHOD:PUBLISH
BEGIN:VEVENT
DTSTAMP:20140721T164500Z
DTSTART:20260731T060000Z
GEO:40.642073;-111.495108
LOCATION:305 Main Street - Park City Utah 84060
SUMMARY;LANGUAGE=en-us:Cambria Evans Solo Show
UID:event-244@meyergallery.com
URL;VALUE=URI:https://www.meyergallery.com/event-details.php?id=244
END:VEVENT
END:VCALENDAR
